BEGIN:VCALENDAR
VERSION:2.0
PRODID:-//Herzverband Salzburg - ECPv6.15.20//NONSGML v1.0//EN
CALSCALE:GREGORIAN
METHOD:PUBLISH
X-ORIGINAL-URL:https://herzverband-salzburg.at
X-WR-CALDESC:Veranstaltungen für Herzverband Salzburg
REFRESH-INTERVAL;VALUE=DURATION:PT1H
X-Robots-Tag:noindex
X-PUBLISHED-TTL:PT1H
BEGIN:VTIMEZONE
TZID:Europe/Vienna
BEGIN:DAYLIGHT
TZOFFSETFROM:+0100
TZOFFSETTO:+0200
TZNAME:CEST
DTSTART:20250330T010000
END:DAYLIGHT
BEGIN:STANDARD
TZOFFSETFROM:+0200
TZOFFSETTO:+0100
TZNAME:CET
DTSTART:20251026T010000
END:STANDARD
BEGIN:DAYLIGHT
TZOFFSETFROM:+0100
TZOFFSETTO:+0200
TZNAME:CEST
DTSTART:20260329T010000
END:DAYLIGHT
BEGIN:STANDARD
TZOFFSETFROM:+0200
TZOFFSETTO:+0100
TZNAME:CET
DTSTART:20261025T010000
END:STANDARD
BEGIN:DAYLIGHT
TZOFFSETFROM:+0100
TZOFFSETTO:+0200
TZNAME:CEST
DTSTART:20270328T010000
END:DAYLIGHT
BEGIN:STANDARD
TZOFFSETFROM:+0200
TZOFFSETTO:+0100
TZNAME:CET
DTSTART:20271031T010000
END:STANDARD
END:VTIMEZONE
BEGIN:VEVENT
DTSTART;TZID=Europe/Vienna:20260310T103000
DTEND;TZID=Europe/Vienna:20260831T113000
DTSTAMP:20260420T103853
CREATED:20260310T152339Z
LAST-MODIFIED:20260310T154628Z
UID:4242-1773138600-1788175800@herzverband-salzburg.at
SUMMARY:TURNEN - Herzsportgruppe Salzburg (Gruppe I)
DESCRIPTION:  \nTREFFPUNKT:\nRoittner-Turnhalle Yogaraum 2.OG\, Rupertgasse 11\, 5020 Salzburg \nTAG:\nJeden Mittwoch von 10:30 bis 11:30 Uhr. (kein Turnen in den Ferien\, wird rechtzeitig von der Trainingsleitung im Kurs mitgeteilt) \nTRAININGSLEITUNG:\nFrau Claudia Kahr\, diplomierte Gesundheitstrainerin\n \nANMELDUNG:\nTel. 0664 / 285 77 85 oder Mail office@herzverband-salzburg.at \nANMERKUNG:\nMitgliederInnen zum einmaligen Kennenlernen sind HERZLICH WILLKOMMEN!
URL:https://herzverband-salzburg.at/event/turnen-herzsportgruppe-salzburg-gruppe-i/
LOCATION:Turnsaal – Rupertgasse\, Rupertgasse 11\, Salzburg\, Salzburg\, 5020\, Austria
CATEGORIES:Turnen
ATTACH;FMTTYPE=image/jpeg:https://herzverband-salzburg.at/wp-content/uploads/2025/06/e0f79dc8-6283-4ae1-841e-f63a3e224ee9.jpg
ORGANIZER;CN="Herzverband Salzburg":MAILTO:office@herzverband-salzburg.at
END:VEVENT
BEGIN:VEVENT
DTSTART;TZID=Europe/Vienna:20260310T171500
DTEND;TZID=Europe/Vienna:20260831T181500
DTSTAMP:20260420T103853
CREATED:20260310T152729Z
LAST-MODIFIED:20260310T154521Z
UID:4244-1773162900-1788200100@herzverband-salzburg.at
SUMMARY:TURNEN - Herzsportgruppe Salzburg (Gruppe II)
DESCRIPTION:  \nTREFFPUNKT:\nTurnsaal ASO I · Böhm-Ermollistraße 1-3 · 5020 Salzburg\, \nTAG:\n Jeden Dienstag von 17:15 Uhr bis 18:15 Uhr (kein Turnen in den Ferien\, wird rechtzeitig von der Trainingsleitung im Kurs mitgeteilt) \nTRAININGSLEITUNG:\nFrau Anna Lenz BSc\, Physiotherapeutin\n \nANMELDUNG:\nTel. 0650 / 850 15 77 oder Mail: lenz-anna@outlook.com \nANMERKUNG:\nVoraussetzung ist die Mitgliedschaft beim Herzverband Salzburg; Interessierte zum einmaligen Kennenlernen sind HERZLICH WILLKOMMEN!
URL:https://herzverband-salzburg.at/event/turnen-herzsportgruppe-salzburg-gruppe-ii-9/
LOCATION:Turnsaal ASO I\, Böhm.Ermollistraße 1-3\, Salzburg\, Salzburg\, 5020\, Austria
CATEGORIES:Turnen
ATTACH;FMTTYPE=image/jpeg:https://herzverband-salzburg.at/wp-content/uploads/2025/04/feec005d-178b-4e90-bd75-9dc821a12bb9.jpg
ORGANIZER;CN="Herzverband Salzburg":MAILTO:office@herzverband-salzburg.at
END:VEVENT
BEGIN:VEVENT
DTSTART;TZID=Europe/Vienna:20260312T133000
DTEND;TZID=Europe/Vienna:20260312T143000
DTSTAMP:20260420T103853
CREATED:20260310T153231Z
LAST-MODIFIED:20260310T154451Z
UID:4248-1773322200-1773325800@herzverband-salzburg.at
SUMMARY:TURNEN - Herzsportgruppe Lungau
DESCRIPTION:  \nTREFFPUNKT:\n Yoga Studio · Kirchengasse 11 · 5580 Tamsweg \nTAG:\n Jeden Mittwoch von 13:30 Uhr bis 14:30 Uhr \nTRAININGSLEITUNG:\nDipl. Shen Shiatsu Praktikerin-Therapeutin Edeltraud Schröcker\n \nANMELDUNG:\n+43 (0) 664 / 234 48 15 oder edeltraud.schroecker@sbg.at \nANMERKUNG:\nVoraussetzung Mitgliedschaft beim Herzverband Salzburg; Interessierte zum einmaligen Kennenlernen sind HERZLICH WILLKOMMEN! Wir bitten um Voranmeldung unter +43 (0) 664 / 234 48 15.
URL:https://herzverband-salzburg.at/event/turnen-herzsportgruppe-lungau-3/
LOCATION:Yoga-Studio – Lungau\, Kirchengasse 11\, Tamsweg\, Lungau\, 5580\, Austria
CATEGORIES:Turnen
ATTACH;FMTTYPE=image/jpeg:https://herzverband-salzburg.at/wp-content/uploads/2025/04/IMG_20250910_140811-scaled-e1759911482164.jpg
ORGANIZER;CN="Herzverband Salzburg":MAILTO:office@herzverband-salzburg.at
END:VEVENT
BEGIN:VEVENT
DTSTART;TZID=Europe/Vienna:20260314T090000
DTEND;TZID=Europe/Vienna:20260314T180000
DTSTAMP:20260420T103853
CREATED:20240714T084743Z
LAST-MODIFIED:20250915T062941Z
UID:3544-1773478800-1773511200@herzverband-salzburg.at
SUMMARY:Tag der Seltenen Erkrankungen 2026 und andere Erkrankungen
DESCRIPTION:  \nDer Herzverband Salzburg ist wieder mit dabei\, am „Tag der seltenen Erkrankungen und andere Erkrankungen“ am 14. März 2026 von 09:00 bis 18:00 Uhr im Europark Salzburg. \nWir freuen uns auf Ihren Beusuch! \nIhr Herzverband Salzburg
URL:https://herzverband-salzburg.at/event/tag-der-seltenen-erkrankungen-2025-und-andere-erkrankungen/
LOCATION:Europark Salzburg\, Europastraße 1\, Salzburg\, Salzburg\, 5020\, Austria
CATEGORIES:Veranstaltung
ATTACH;FMTTYPE=image/jpeg:https://herzverband-salzburg.at/wp-content/uploads/2024/07/Foto.jpg
END:VEVENT
BEGIN:VEVENT
DTSTART;VALUE=DATE:20260320
DTEND;VALUE=DATE:20260321
DTSTAMP:20260420T103854
CREATED:20251216T072656Z
LAST-MODIFIED:20251216T072656Z
UID:4218-1773964800-1774051199@herzverband-salzburg.at
SUMMARY:HERZTREFF - Mitgliedertreffen Salzburg
DESCRIPTION:Der Salzburger Herzverband veranstaltet monatliche Treffen.  Nutzen Sie die persönliche Ebene um sich auszutauschen\, um hilfreiche Kontakte zu knüpfen oder aber auch\, um zu lachen und HERZzeit zu verspüren. \nMAN TRIFFT SICH IN SALZBURG. \nDatum:\nFreitag\, 20. März 2026 ab 17:30 Uhr \nOrt: \nGasthaus Rechenwirt\, Austraße 1\, 5061 Elsbethen \nAnmeldungen:\nNicht notwendig. \nInfo:\nUnser Präsident\, Dr. Hubert Wallner\, wird beim Herztreff in Salzburg anwesend sein\, um all Ihre Fragen rund ums Herz persönlich zu beantworten.
URL:https://herzverband-salzburg.at/event/herztreff-mitgliedertreffen-salzburg-8/
LOCATION:Gasthaus Rechenwirt\, Austraße 1\, Elsbethen\, Salzburg\, 5061\, Austria
CATEGORIES:Mitgliedertreffen
ATTACH;FMTTYPE=image/jpeg:https://herzverband-salzburg.at/wp-content/uploads/2025/12/b598f398-b84a-4cbe-90de-e5e03ea7c34b.jpg
END:VEVENT
END:VCALENDAR